BEGIN:VCALENDAR
VERSION:2.0
PRODID:-//Horsham Blog - ECPv6.15.17.1//NONSGML v1.0//EN
CALSCALE:GREGORIAN
METHOD:PUBLISH
X-WR-CALNAME:Horsham Blog
X-ORIGINAL-URL:https://www.horshamblog.co.uk
X-WR-CALDESC:Events for Horsham Blog
REFRESH-INTERVAL;VALUE=DURATION:PT1H
X-Robots-Tag:noindex
X-PUBLISHED-TTL:PT1H
BEGIN:VTIMEZONE
TZID:Europe/London
BEGIN:DAYLIGHT
TZOFFSETFROM:+0000
TZOFFSETTO:+0100
TZNAME:BST
DTSTART:20140330T010000
END:DAYLIGHT
BEGIN:STANDARD
TZOFFSETFROM:+0100
TZOFFSETTO:+0000
TZNAME:GMT
DTSTART:20141026T010000
END:STANDARD
BEGIN:DAYLIGHT
TZOFFSETFROM:+0000
TZOFFSETTO:+0100
TZNAME:BST
DTSTART:20150329T010000
END:DAYLIGHT
BEGIN:STANDARD
TZOFFSETFROM:+0100
TZOFFSETTO:+0000
TZNAME:GMT
DTSTART:20151025T010000
END:STANDARD
BEGIN:DAYLIGHT
TZOFFSETFROM:+0000
TZOFFSETTO:+0100
TZNAME:BST
DTSTART:20160327T010000
END:DAYLIGHT
BEGIN:STANDARD
TZOFFSETFROM:+0100
TZOFFSETTO:+0000
TZNAME:GMT
DTSTART:20161030T010000
END:STANDARD
END:VTIMEZONE
BEGIN:VEVENT
DTSTART;TZID=Europe/London:20150627T170000
DTEND;TZID=Europe/London:20150627T203000
DTSTAMP:20260420T060146
CREATED:20150624T150148Z
LAST-MODIFIED:20150624T150148Z
UID:3273-1435424400-1435437000@www.horshamblog.co.uk
SUMMARY:American Style BBQ with MasterChef's Leni Pavoni
DESCRIPTION:Saturday 27th June sees the return of MasterChef Leni Pavoni at Raylands Country Park in Southwater. Leni will be cooking an American Style BBQ with plenty of smoked meat. Tony will later be providing disco entertainment.  \nIn order for Leni to gauge numbers and prepare the food\, it is important that you place your order in advance. Payment & details can be taken from the bar anytime prior to Friday 26th June. Vegetarian option available\, ask at bar. \nLeni will be cooking from 5pm – 8-30pm so book your spot today!
URL:https://www.horshamblog.co.uk/event/american-style-bbq-with-masterchefs-leni-pavoni/
LOCATION:Raylands Country Park\, Jackrells Lane\, Southwater\, Horsham\, West Sussex\, RH13 9DH\, United Kingdom
END:VEVENT
BEGIN:VEVENT
DTSTART;TZID=Europe/London:20150620T100000
DTEND;TZID=Europe/London:20150620T170000
DTSTAMP:20260420T060146
CREATED:20150609T101206Z
LAST-MODIFIED:20150609T112116Z
UID:3205-1434794400-1434819600@www.horshamblog.co.uk
SUMMARY:The Sumners Ponds Model Show
DESCRIPTION:Saturday 20th and Sunday 21st June 2015 will see the return of the popular Sumners Ponds model show. With over 60 different clubs and organisations\, this is set to be their biggest open-air show yet. There will be areas exhibiting boats\, planes\, helicopters\, drones\, trains\, cars\, kites and more. \nOther activities include: \n\nArchery\nAir Rifle Shooting Range\nFairground Rides\nCraft stalls\nCharity Stalls\n\nCheck out www.sumnersponds.co.uk for more information and pictures.
URL:https://www.horshamblog.co.uk/event/the-sumners-ponds-model-show/
LOCATION:Sumners Pond\, The Cafe by the Lake\, Sumners Pond Fishery and Campsite\, Chapel Road\, Barns Green\, Horsham\, West Sussex\, RH13 0PR\, United Kingdom
END:VEVENT
BEGIN:VEVENT
DTSTART;TZID=Europe/London:20150620T080000
DTEND;TZID=Europe/London:20150620T170000
DTSTAMP:20260420T060146
CREATED:20150609T100507Z
LAST-MODIFIED:20150609T100507Z
UID:3202-1434787200-1434819600@www.horshamblog.co.uk
SUMMARY:Mainly Madness at the Shelley Arms in Broadbridge Heath
DESCRIPTION:Mainly Madness are a group of two tone loving musicians that bring the complete Madness experience to your event. This genre of music is guaranteed to make you smile and stomp your feet to the rock steady beat! You’d be mad to miss the Shelley Arms Summer Skank on Saturday 20th June.
URL:https://www.horshamblog.co.uk/event/mainly-madness-at-the-shelley-arms-in-broadbridge-heath/
LOCATION:The Shelley Arms\, 16-18 Old Guildford Road\, Horsham\, West Sussex\, Broadbridge Heath\, West Sussex\, RH12 3JU\, United Kingdom
ATTACH;FMTTYPE=image/jpeg:https://www.horshamblog.co.uk/wp-content/uploads/2015/06/mainly-madness-at-the-Shelley-Arms.jpg
END:VEVENT
BEGIN:VEVENT
DTSTART;TZID=Europe/London:20150620T030000
DTEND;TZID=Europe/London:20150620T180000
DTSTAMP:20260420T060146
CREATED:20150609T095747Z
LAST-MODIFIED:20150609T095747Z
UID:3198-1434769200-1434823200@www.horshamblog.co.uk
SUMMARY:Strictly Vintage 40's & 50's Dance at Drill Hall
DESCRIPTION:Head down to Drill Hall in Horsham for the Strictly Vintage 40’s & 50’s tea dance in aid of Horsham District Age UK.  \nAll ages and abilities welcome! The ticket price includes\nDelicious afternoon tea from Splendid Occasion Events\nLive music from Kerry Le Bern – ‘The Lady Sings’ and the Sussex Royal British Legion Band\, raffles\, games and prizes for best dressed.
URL:https://www.horshamblog.co.uk/event/strictly-vintage-40s-50s-dance-at-drill-hall/
LOCATION:Drill Hall\, Denne Road\, Horsham\, West Sussex\, RH12 1JF\, United Kingdom
END:VEVENT
BEGIN:VEVENT
DTSTART;TZID=Europe/London:20150612T193000
DTEND;TZID=Europe/London:20150612T193000
DTSTAMP:20260420T060146
CREATED:20150508T153012Z
LAST-MODIFIED:20150508T153156Z
UID:3128-1434137400-1434137400@www.horshamblog.co.uk
SUMMARY:Almost Elvis at The Holbrook Club
DESCRIPTION:The Holbrook Club are proudly presenting ‘The Almost Elvis Band\, a heart & soul\, rock n roll 9-piece Elvis Band. \nAlmost Elvis recreate the sound\, look\, excitement and vast energy of a live Elvis performance. From his early years to the Vegas show days. They deliver a unique experience not to be missed at the club in June. \n 
URL:https://www.horshamblog.co.uk/event/almost-elvis-at-the-holbrook-club/
LOCATION:The Holbrook Club\, North Heath Lane\, Horsham\, West Sussex\, RH12 5PJ\, United Kingdom
ATTACH;FMTTYPE=image/jpeg:https://www.horshamblog.co.uk/wp-content/uploads/2015/05/Almost-Elvis.jpg
END:VEVENT
BEGIN:VEVENT
DTSTART;TZID=Europe/London:20150531T100000
DTEND;TZID=Europe/London:20150531T170000
DTSTAMP:20260420T060146
CREATED:20150527T080548Z
LAST-MODIFIED:20150527T080548Z
UID:3189-1433066400-1433091600@www.horshamblog.co.uk
SUMMARY:Bark in the Park - St Catherine's Hospice Fundraiser
DESCRIPTION:The annual Bark in the Park is a great way to raise money for St Catherine’s Hospice. They are calling all dogs to attend a canine event in Horsham park. To register your dog click here. You can find terms and conditions of the event here.
URL:https://www.horshamblog.co.uk/event/bark-in-the-park-st-catherines-hospice-fundraiser/
LOCATION:Horsham Park\, North Street\, Horsham\, West Sussex\, RH12 2BP\, United Kingdom
ATTACH;FMTTYPE=image/jpeg:https://www.horshamblog.co.uk/wp-content/uploads/2015/05/bark-in-the-park.jpg
END:VEVENT
BEGIN:VEVENT
DTSTART;TZID=Europe/London:20150529T170000
DTEND;TZID=Europe/London:20150529T210000
DTSTAMP:20260420T060146
CREATED:20150515T153459Z
LAST-MODIFIED:20150515T153459Z
UID:3149-1432918800-1432933200@www.horshamblog.co.uk
SUMMARY:Family Disco Night
DESCRIPTION:  \nPopular family disco night at The Holbrook Club on Friday 29th May. Doors open at 5pm along with the club kitchen and bar. The disco starts at 5:30pm with dancing through to 9pm.
URL:https://www.horshamblog.co.uk/event/family-disco-night/
LOCATION:The Holbrook Club\, North Heath Lane\, Horsham\, West Sussex\, RH12 5PJ\, United Kingdom
ATTACH;FMTTYPE=image/jpeg:https://www.horshamblog.co.uk/wp-content/uploads/2015/05/family-disco.jpg
END:VEVENT
BEGIN:VEVENT
DTSTART;TZID=Europe/London:20150523T070000
DTEND;TZID=Europe/London:20150523T230000
DTSTAMP:20260420T060146
CREATED:20150507T200414Z
LAST-MODIFIED:20150507T200414Z
UID:3081-1432364400-1432422000@www.horshamblog.co.uk
SUMMARY:Entertainment by TreeAnna
DESCRIPTION:TreeAnna is a singer\, songwriter and entertainer from Reigate in Surrey. She captivates audiences with her lively personality and range of soul\, motown\, dance rock and more. She has performed at some top venues across the world including the London West End in the Palladium\, London’s Show Boat\, cruise ships and she has even performed to the troops in Bahrain with her ‘Shania Twain’ tribute act. \nTreeAnne will be performing at Raylands Country Park on Saturday 23rd May at 7pm. Entry is FREE so get down early to guarantee your place. Find out more by visiting Rayland’s Facebook page. \n 
URL:https://www.horshamblog.co.uk/event/entertainment-by-treeanna/
LOCATION:Raylands Country Park\, Jackrells Lane\, Southwater\, Horsham\, West Sussex\, RH13 9DH\, United Kingdom
ATTACH;FMTTYPE=image/jpeg:https://www.horshamblog.co.uk/wp-content/uploads/2015/05/treeanna-may-gigs.jpg
END:VEVENT
BEGIN:VEVENT
DTSTART;TZID=Europe/London:20150520T190000
DTEND;TZID=Europe/London:20150520T190000
DTSTAMP:20260420T060146
CREATED:20150508T155415Z
LAST-MODIFIED:20150508T155602Z
UID:3135-1432148400-1432148400@www.horshamblog.co.uk
SUMMARY:Bingo & Spice Night
DESCRIPTION:Fun Bingo & Spice Night at The Countryman Inn in Shipley in aid of local charities. There will be a fantastic spice buffet for £15 which includes Asian curries\, oriental noodles\, Thai spiced salads\, Malaysian Rendang and more! Book online at www.countrymanshipley.co.uk
URL:https://www.horshamblog.co.uk/event/bingo-spice-night/
LOCATION:The Country Man Inn\,  Countryman Lane\, Shipley\, West Sussex\, Horsham\, West Sussex\, RH13 8PZ\, United Kingdom
ATTACH;FMTTYPE=image/jpeg:https://www.horshamblog.co.uk/wp-content/uploads/2015/05/bingo-night-countryman.jpg
END:VEVENT
BEGIN:VEVENT
DTSTART;TZID=Europe/London:20150516T094500
DTEND;TZID=Europe/London:20150516T224500
DTSTAMP:20260420T060146
CREATED:20150512T085902Z
LAST-MODIFIED:20150512T085902Z
UID:3145-1431769500-1431816300@www.horshamblog.co.uk
SUMMARY:Free Yoga Class in aid of the Red Cross and HCC Nepal.
DESCRIPTION:Meg Thompson leads a free yoga class in aid of the Red Cross and HCC Nepal.\n\n\n9.45am to 10.45am in Horsham Park\, between Pavillions and Conservatory.\nRegister here: https://www.facebook.com/events/899898520033369/
URL:https://www.horshamblog.co.uk/event/free-yoga-class-in-aid-of-the-red-cross-and-hcc-nepal/
LOCATION:Horsham Park\, North Street\, Horsham\, West Sussex\, RH12 2BP\, United Kingdom
ATTACH;FMTTYPE=image/jpeg:https://www.horshamblog.co.uk/wp-content/uploads/2015/05/yoga.jpg
END:VEVENT
BEGIN:VEVENT
DTSTART;TZID=Europe/London:20150515T120000
DTEND;TZID=Europe/London:20150516T120000
DTSTAMP:20260420T060146
CREATED:20150508T154045Z
LAST-MODIFIED:20150508T154045Z
UID:3131-1431691200-1431777600@www.horshamblog.co.uk
SUMMARY:Sausage\, Cider and Beer Festival at The Shelley Arms
DESCRIPTION:This year the Shelley Arms are hosting their annual Beer Festival on the weekend of the 15th & 16th of May. There will be lots of locally produced Sausages and a wide selection of ciders and ales from Sussex. It will be a fun-filled weekend of live music featuring some fantastic local talent and Morris Dancers.
URL:https://www.horshamblog.co.uk/event/sausage-cider-and-beer-festival-at-the-shelley-arms/
LOCATION:The Shelley Arms\, 16-18 Old Guildford Road\, Horsham\, West Sussex\, Broadbridge Heath\, West Sussex\, RH12 3JU\, United Kingdom
ATTACH;FMTTYPE=image/jpeg:https://www.horshamblog.co.uk/wp-content/uploads/2015/05/shelley-arms-fun-day1.jpg
END:VEVENT
BEGIN:VEVENT
DTSTART;TZID=Europe/London:20150514T103000
DTEND;TZID=Europe/London:20150514T153000
DTSTAMP:20260420T060146
CREATED:20150512T085446Z
LAST-MODIFIED:20150512T085446Z
UID:3142-1431599400-1431617400@www.horshamblog.co.uk
SUMMARY:Garden Produce Fair at The South Lodge
DESCRIPTION:Garden Produce Fair to raise money for St Catherine’s Hospice at The South Lodge on Thursday 14th May. \nSouth Lodge Hotel is not only their exclusive venue for the fair this year\, but their wonderful chefs are going to cook a terrific BBQ lunch. \nThis will be limited so please book tickets prior to the Fair. \nMenu\nPulled BBQ Pork Shoulder\, Homemade Apple Sauce\nLemon\, Honey and Thyme Marinated Chicken Thigh\nSweet Potato\, Chickpea and Halloumi Burger (V)\n~oOo~\nTruffle Potato Salad with Chive\nMixed Leaf Salad\nRed Cabbage Slaw with Golden Sultanas\nBrioche Bun \nContact South Lodge to purchase your BBQ lunch ticket on 01403 891711
URL:https://www.horshamblog.co.uk/event/garden-produce-fair-at-the-south-lodge/
LOCATION:The South Lodge Hotel\, Brighton Road\, Horsham\, West Sussex\, RH13 6PS\, United Kingdom
ATTACH;FMTTYPE=image/jpeg:https://www.horshamblog.co.uk/wp-content/uploads/2015/05/south-lodge.jpg
END:VEVENT
BEGIN:VEVENT
DTSTART;TZID=Europe/London:20150512T183000
DTEND;TZID=Europe/London:20150512T183000
DTSTAMP:20260420T060146
CREATED:20150507T112644Z
LAST-MODIFIED:20150507T112644Z
UID:3078-1431455400-1431455400@www.horshamblog.co.uk
SUMMARY:Jimmy White night at The Holbrook Club
DESCRIPTION:For the first time ever The Holbrook Club are offering you not just the chance to meet Jimmy White but also the possibility to play against him! \nFor your chance to play against Jimmy you need to enter your name into a 16 man round robin competition along with a £10 entry fee*\, with the grand prize being the chance to play a frame of snooker against one of the former greats of snooker! \nThe event will take place in the clubs main hall so if you just wish to spectate and gain some top tips from the stands then tickets are priced at £20 for members and £25 for non-members. \nPlease note that all games in the 16 man round robin competition will be best of 3 frames and must be played before the 12th of May. \n*Entry fee does not cover entry to main event on the 12th of May
URL:https://www.horshamblog.co.uk/event/jimmy-white-night-at-the-holbrook-club/
LOCATION:The Holbrook Club\, North Heath Lane\, Horsham\, West Sussex\, RH12 5PJ\, United Kingdom
ATTACH;FMTTYPE=image/jpeg:https://www.horshamblog.co.uk/wp-content/uploads/2015/05/jimmy-white.jpg
END:VEVENT
BEGIN:VEVENT
DTSTART;TZID=Europe/London:20150512T100000
DTEND;TZID=Europe/London:20150512T112000
DTSTAMP:20260420T060146
CREATED:20150512T084806Z
LAST-MODIFIED:20150512T084806Z
UID:3139-1431424800-1431429600@www.horshamblog.co.uk
SUMMARY:Musical Friends
DESCRIPTION:Musical Friends at Tythe Barn in Horsham on Wednesday 13 May. \nIf your little one loves bubbles\, nursery rhymes and dance then this is the place for them! Suitable for babies and children up to 4 years old.
URL:https://www.horshamblog.co.uk/event/musical-friends/
LOCATION:Tythe Barn\, Pondtail Road\, Horsham\, RH12 5JF\, United Kingdom
ATTACH;FMTTYPE=image/jpeg:https://www.horshamblog.co.uk/wp-content/uploads/2015/05/musical-friends.jpg
END:VEVENT
BEGIN:VEVENT
DTSTART;TZID=Europe/London:20150504T110000
DTEND;TZID=Europe/London:20150504T170000
DTSTAMP:20260420T060146
CREATED:20150427T101000Z
LAST-MODIFIED:20150427T111344Z
UID:3049-1430737200-1430758800@www.horshamblog.co.uk
SUMMARY:Family Fun Day – Free Entry
DESCRIPTION:Our ever popular Family Fun Day is back again and this year its bigger and better! \nWe have Fairground Attractions\, Bouncy Castles\, Birds of Prey Display\, Face Painting\, Cake Decorating\, Children’s Entertainer\, Delicious BBQ food and all the ice cream you could possibly want!
URL:https://www.horshamblog.co.uk/event/test-event/
LOCATION:The Holbrook Club\, North Heath Lane\, Horsham\, West Sussex\, RH12 5PJ\, United Kingdom
ATTACH;FMTTYPE=image/jpeg:https://www.horshamblog.co.uk/wp-content/uploads/2015/04/family_funday_titles-350.jpg
END:VEVENT
BEGIN:VEVENT
DTSTART;TZID=Europe/London:20150502T143000
DTEND;TZID=Europe/London:20150502T143000
DTSTAMP:20260420T060146
CREATED:20150428T132801Z
LAST-MODIFIED:20150428T132801Z
UID:3072-1430577000-1430577000@www.horshamblog.co.uk
SUMMARY:Basil Brush Show
DESCRIPTION:The cheeky fox will be at The Capitol in Horsham on Saturday 2nd May! This is a show all the family will love and you can even meet Basil and Mr Stephen after the show!
URL:https://www.horshamblog.co.uk/event/basil-brush-show/
LOCATION:The Capitol\, The Capitol\, North Street\, Horsham\, West Sussex\, RH12 1RG\, United Kingdom
ATTACH;FMTTYPE=image/jpeg:https://www.horshamblog.co.uk/wp-content/uploads/2015/04/basil-brush.jpg
END:VEVENT
BEGIN:VEVENT
DTSTART;TZID=Europe/London:20150502T083000
DTEND;TZID=Europe/London:20150502T083000
DTSTAMP:20260420T060146
CREATED:20150428T133553Z
LAST-MODIFIED:20150428T133553Z
UID:3074-1430555400-1430555400@www.horshamblog.co.uk
SUMMARY:Southwater Car Boot Sale
DESCRIPTION:Southwater Car Boot sale is on every Saturday morning in May to the end of August. The village of Southwater offers a great venue for a car boot sale as it’s within easy reach of Horsham\, Rusper and Dorking on the A24. \nSellers should get there at 7.30am and the cost is £5 per pitch. Buyers can arrive any time after 8:30am and entry is totally free. More info can be found at www.southwatercarboot.co.uk
URL:https://www.horshamblog.co.uk/event/southwater-car-boot-sale/
LOCATION:Southwater Playing Fields\, Southwater Street\, Southwater\, West Sussex\, RH13 9BN\, United Kingdom
ATTACH;FMTTYPE=image/jpeg:https://www.horshamblog.co.uk/wp-content/uploads/2015/04/southwater-car-boot-sale.jpg
END:VEVENT
BEGIN:VEVENT
DTSTART;TZID=Europe/London:20150430T193000
DTEND;TZID=Europe/London:20150430T193000
DTSTAMP:20260420T060146
CREATED:20150427T153036Z
LAST-MODIFIED:20150427T153404Z
UID:3062-1430422200-1430422200@www.horshamblog.co.uk
SUMMARY:Quiz Night at Sumners Ponds
DESCRIPTION:Quiz Night at The Café by the Lake at Sumners Ponds Campsite. \nHome cooked food served 6:00pm – 9:00pm\, bar open until 10:30pm and the quiz starts at 7:30pm. \nAs the bar and restaurant is open you can indulge in a bite to eat and a beverage whilst playing along. The café by the lake is a tranquil location and this sounds like a great night out. \nTeams of 2-6 £1 per head. Call 01403 732734 to book a table.
URL:https://www.horshamblog.co.uk/event/quiz-night-at-sumners-ponds/
LOCATION:Sumners Pond\, The Cafe by the Lake\, Sumners Pond Fishery and Campsite\, Chapel Road\, Barns Green\, Horsham\, West Sussex\, RH13 0PR\, United Kingdom
ATTACH;FMTTYPE=image/jpeg:https://www.horshamblog.co.uk/wp-content/uploads/2015/04/sumners-pond1.jpg
END:VEVENT
BEGIN:VEVENT
DTSTART;TZID=Europe/London:20150428T193000
DTEND;TZID=Europe/London:20150428T193000
DTSTAMP:20260420T060146
CREATED:20150427T150017Z
LAST-MODIFIED:20150427T151105Z
UID:3057-1430249400-1430249400@www.horshamblog.co.uk
SUMMARY:Jackson Live in Concert at The Capitol
DESCRIPTION:Ben’s portrayal or Michael Jackson in his prime has to be the most vocally and visually accurate tribute to the King of Pop to have ever toured UK theatres. \nHis renditions of Thriller\, Beat It and Billie Jean are truly sensational and this is a must watch show!
URL:https://www.horshamblog.co.uk/event/jackson-live-in-concert-at-the-capitol/
LOCATION:The Capitol\, The Capitol\, North Street\, Horsham\, West Sussex\, RH12 1RG\, United Kingdom
ATTACH;FMTTYPE=image/jpeg:https://www.horshamblog.co.uk/wp-content/uploads/2015/04/jackson-live.jpg
END:VEVENT
END:VCALENDAR